BEGIN:VCALENDAR
VERSION:2.0
PRODID:-//ChamberMaster//Event Calendar 2.0//EN
METHOD:PUBLISH
X-PUBLISHED-TTL:P1H
REFRESH-INTERVAL:P1H
CALSCALE:GREGORIAN
BEGIN:VTIMEZONE
TZID:America/Denver
BEGIN:DAYLIGHT
RRULE:FREQ=YEARLY;BYMONTH=3;BYDAY=2SU
DTSTART:20070101T000000
TZOFFSETFROM:-0700
TZOFFSETTO:-0600
TZNAME:Mountain Daylight Time
END:DAYLIGHT
BEGIN:STANDARD
RRULE:FREQ=YEARLY;BYMONTH=11;BYDAY=1SU
DTSTART:20070101T000000
TZOFFSETFROM:-0600
TZOFFSETTO:-0700
TZNAME:Mountain Standard Time
END:STANDARD
END:VTIMEZONE
BEGIN:VEVENT
DTSTART;TZID=America/Denver:20260515T090000
DTEND;TZID=America/Denver:20260515T140000
X-MICROSOFT-CDO-ALLDAYEVENT:FALSE
SUMMARY:2026 Clerk's Retreat
DESCRIPTION:Join Us for a Day of Learning\, Collaboration\, and Celebration!We are excited to invite you to a special retreat designed exclusively for you\, the vital clerks who support effective school board governance across Idaho. This event promises an engaging day filled with insightful presentations\, collaborative discussions\, door prizes\, and a delicious lunch.What to Expect: A Full Day of Professional Growth and ConnectionStrategic Governance & the Clerk's Role in Board Effectiveness Delve into how your role directly influences board success and student outcomes.What to Expect After the Session A preview of the policy updates ahead.Managing Complex Board Meetings & High-Stakes Situations Learn practical strategies for navigating challenging meetings and state-level issues.Hot Topics in School Law Engage with current\, pressing legal matters affecting Idaho school boards today. Presented by Anderson\, Julian & Hull.As a school board clerk\, you play a crucial role in the smooth operation and legal compliance of your board. This workshop is tailored to empower you with the latest tools\, knowledge\, and connections to excel in your role and support your board's mission effectively.
X-ALT-DESC;FMTTYPE=text/html:<!DOCTYPE html><html><head><title></title></head><body aria-disabled="false"><p align="center" style="mso-margin-top-alt:auto\;mso-margin-bottom-alt:  auto\;text-align:center\;line-height:normal\;mso-outline-level:1\;"><br><strong fr-original-style="" style="font-weight: 700\;"><span style="font-size: 24px\;">Join Us for a Day of Learning\, Collaboration\, and Celebration!</span></strong></p><p style="mso-margin-top-alt:auto\;mso-margin-bottom-alt:auto\;  line-height:normal\;">We are excited to invite you to a special retreat designed exclusively for you\, the vital clerks who support effective school board governance across Idaho. This event promises an engaging day filled with insightful presentations\, collaborative discussions\, door prizes\, and a delicious lunch.</p><p style="mso-margin-top-alt:auto\;mso-margin-bottom-alt:auto\;  line-height:normal\;mso-outline-level:1\;"><strong fr-original-style="" style="font-weight: 700\;">What to Expect: A Full Day of Professional Growth and Connection</strong></p><ul fr-original-style="" style="list-style-position: inside\;" type="disc"><li style="mso-margin-top-alt:auto\;mso-margin-bottom-alt:auto\;      line-height:normal\;mso-list:l0 level1 lfo1\;tab-stops:list .5in\;"><strong fr-original-style="" style="font-weight: 700\;">Strategic Governance &amp\; the Clerk&rsquo\;s Role in Board Effectiveness</strong> Delve into how your role directly influences board success and student outcomes.</li><li style="mso-margin-top-alt:auto\;mso-margin-bottom-alt:auto\;      line-height:normal\;mso-list:l0 level1 lfo1\;tab-stops:list .5in\;"><strong fr-original-style="" style="font-weight: 700\;">What to Expect After the Session</strong> A preview of the policy updates ahead.</li><li style="mso-margin-top-alt:auto\;mso-margin-bottom-alt:auto\;      line-height:normal\;mso-list:l0 level1 lfo1\;tab-stops:list .5in\;"><strong fr-original-style="" style="font-weight: 700\;">Managing Complex Board Meetings &amp\; High-Stakes Situations</strong> Learn practical strategies for navigating challenging meetings and state-level issues.</li><li style="mso-margin-top-alt:auto\;mso-margin-bottom-alt:auto\;      line-height:normal\;mso-list:l0 level1 lfo1\;tab-stops:list .5in\;"><strong fr-original-style="" style="font-weight: 700\;">Hot Topics in School Law</strong> Engage with current\, pressing legal matters affecting Idaho school boards today. Presented by Anderson\, Julian &amp\; Hull.</li></ul><p style="mso-margin-top-alt:auto\;mso-margin-bottom-alt:auto\;  line-height:normal\;">As a school board clerk\, you play a crucial role in the smooth operation and legal compliance of your board. This workshop is tailored to empower you with the latest tools\, knowledge\, and connections to excel in your role and support your board&rsquo\;s mission effectively.</p></body></html>
LOCATION:877 W Main St Ste 1000 Boise ID 83702-5884
UID:e.3326.1378248
SEQUENCE:3
DTSTAMP:20260424T170449Z
URL:https://idahoschoolboardsassociation.growthzoneapp.com/events/Details/2026-clerk-s-retreat-1627224?sourceTypeId=Hub
END:VEVENT
END:VCALENDAR
