BEGIN:VCALENDAR
VERSION:2.0
PRODID:-//ChamberMaster//Event Calendar 2.0//EN
METHOD:PUBLISH
X-PUBLISHED-TTL:P1H
REFRESH-INTERVAL:P1H
CALSCALE:GREGORIAN
BEGIN:VTIMEZONE
TZID:America/Denver
BEGIN:DAYLIGHT
RRULE:FREQ=YEARLY;BYMONTH=3;BYDAY=2SU
DTSTART:20070101T000000
TZOFFSETFROM:-0700
TZOFFSETTO:-0600
TZNAME:Mountain Daylight Time
END:DAYLIGHT
BEGIN:STANDARD
RRULE:FREQ=YEARLY;BYMONTH=11;BYDAY=1SU
DTSTART:20070101T000000
TZOFFSETFROM:-0600
TZOFFSETTO:-0700
TZNAME:Mountain Standard Time
END:STANDARD
END:VTIMEZONE
BEGIN:VEVENT
DTSTART;TZID=America/Denver:20260416T120000
DTEND;TZID=America/Denver:20260416T130000
X-MICROSOFT-CDO-ALLDAYEVENT:FALSE
SUMMARY:2026 Get on Board: New Board Member Package
DESCRIPTION:Welcome your New Board Members with the Tools They Need to Succeed! The Get on Board Package includes a six-part professional development series designed to equip new and first-year Idaho school board members with essential governance knowledge to help them accelerate their learning\, serve effectively\, and make a positive impact from day one. Set your new board members up for success   any time of the year!Webinar Schedule & Topics:January 15 - Session 1: Responsibilities & RelationshipsFebruary 19 - Session 2: Essential Roles of Board MembersMarch 19 - Session 3: Basics of School LawApril 16 - Session 4: Basics of School FinanceMay 21 - Session 5: Making a Difference for StudentsJune 11 - Session 6: Making Sense of Student AchievementSix one-hour monthly webinars from January 15 to June 11. Each webinar runs from noon to 1 p.m. MDT / 11 a.m. PSTYour registration includes:ISBA's New Board Member BookletAccess to 6 live monthly webinars from January - JuneThe Governance Core 2.0 by Davis CampbellRecordings of past sessions\, automatically included with mid-year registrationsHow Not to Be a Terrible School Board Member by Richard E. Mayer\nThe webinars are fully reimbursable by the Idaho State Department of Education at $50 per participant\, per session\, if attended live and if the board has not already used its professional development funds for the year. This makes the Get on Board Package a cost-effective and impactful learning opportunity for your board members.
X-ALT-DESC;FMTTYPE=text/html:<!DOCTYPE html><html><head><title></title></head><body aria-disabled="false"><hr fr-original-style="" style="clear: both\; user-select: none\; break-after: page\;"><hr fr-original-style="" style="clear: both\; user-select: none\; break-after: page\;"><p style="text-align: center\;"><strong fr-original-style="" style="font-weight: 700\;"><span style="font-size: 18px\;">Welcome your New Board Members with the Tools They Need to Succeed!&nbsp\;</span></strong></p><hr fr-original-style="" style="clear: both\; user-select: none\; break-after: page\;"><hr fr-original-style="" style="clear: both\; user-select: none\; break-after: page\;"><p>The <strong fr-original-style="" style="font-weight: 700\;">Get on Board Package</strong> includes a six-part professional development series designed to equip new and first-year Idaho school board members with essential governance knowledge to help them accelerate their learning\, serve effectively\, and make a positive impact from day one. Set your new board members up for success &mdash\; any time of the year!</p><table fr-original-style="width: 100%\; margin-left: calc(0%)\; margin-right: calc(0%)\;" style="width: 100%\; margin-left: calc(0%)\; margin-right: calc(0%)\; border: 0px\; border-collapse: collapse\; empty-cells: show\; max-width: 100%\;"><thead><tr fr-original-style="" style="user-select: none\;"><th fr-original-style="background-color: rgb(181\, 144\, 61)\; width: 97.4772%\;" style="background: rgb(181\, 144\, 61)\; width: 97.4772%\; border: 1px solid rgb(221\, 221\, 221)\; user-select: text\;"><div style="text-align: center\;"><strong fr-original-style="" style="font-weight: 700\;"><span style="color: rgb(255\, 255\, 255)\;">Webinar Schedule &amp\; Topics:</span></strong></div></th></tr></thead><tbody><tr fr-original-style="" style="user-select: none\;"><td fr-original-style="width: 97.4772%\; background-color: rgb(12\, 81\, 48)\;" style="width: 97.4772%\; background-color: rgb(12\, 81\, 48)\; min-width: 5px\; border: 1px solid rgb(221\, 221\, 221)\; user-select: text\;"><ul fr-original-style="" style="list-style-position: inside\;"><li style="color: rgb(255\, 255\, 255)\; text-align: left\;">January 15 - Session 1: Responsibilities &amp\; Relationships</li><li style="color: rgb(255\, 255\, 255)\; text-align: left\;">February 19 - Session 2: Essential Roles of Board Members</li><li style="color: rgb(255\, 255\, 255)\; text-align: left\;">March 19 - Session 3: Basics of School Law</li><li style="color: rgb(255\, 255\, 255)\; text-align: left\;">April 16 - Session 4: Basics of School Finance</li><li style="color: rgb(255\, 255\, 255)\; text-align: left\;">May 21 - Session 5: Making a Difference for Students</li><li style="color: rgb(255\, 255\, 255)\; text-align: left\;">June 11 - Session 6: Making Sense of Student Achievement</li></ul></td></tr><tr fr-original-style="" style="user-select: none\;"><td fr-original-style="width: 101.176%\; background-color: rgb(181\, 144\, 61)\;" style="width: 101.176%\; background-color: rgb(181\, 144\, 61)\; min-width: 5px\; border: 1px solid rgb(221\, 221\, 221)\; user-select: text\;"><div style="text-align: left\;"><em><span style="color: rgb(255\, 255\, 255)\;">Six one-hour monthly webinars from January 15 to June 11. Each webinar runs from noon to 1 p.m. MDT / 11 a.m. PST</span></em></div></td></tr></tbody></table><hr fr-original-style="" style="clear: both\; user-select: none\; break-after: page\;"><p style="text-align: center\;"><strong fr-original-style="" style="font-weight: 700\;"><span style="font-size: 18px\;">Your registration includes:</span></strong></p><hr fr-original-style="" style="clear: both\; user-select: none\; break-after: page\;"><table fr-original-style="width: 100%\; margin-left: calc(0%)\; margin-right: calc(0%)\;" style="width: 100%\; margin-left: calc(0%)\; margin-right: calc(0%)\; border: 0px\; border-collapse: collapse\; empty-cells: show\; max-width: 100%\;"><tbody><tr fr-original-style="" style="user-select: none\;"><td fr-original-style="width: 51.2407%\; background-color: rgb(12\, 81\, 48)\;" style="width: 51.2407%\; background-color: rgb(12\, 81\, 48)\; min-width: 5px\; border: 1px solid rgb(221\, 221\, 221)\; user-select: text\;"><ul fr-original-style="" style="list-style-position: inside\;"><li style="text-align: left\; color: rgb(255\, 255\, 255)\;">ISBA&#39\;s New Board Member Booklet</li><li style="text-align: left\; color: rgb(255\, 255\, 255)\;">Access to 6 live monthly webinars from January - June</li><li style="text-align: left\; color: rgb(255\, 255\, 255)\;">The Governance Core 2.0 by Davis Campbell</li></ul></td><td fr-original-style="width: 48.6352%\; background-color: rgb(12\, 81\, 48)\;" style="width: 48.6352%\; background-color: rgb(12\, 81\, 48)\; min-width: 5px\; border: 1px solid rgb(221\, 221\, 221)\; user-select: text\;"><ul fr-original-style="" style="list-style-position: inside\;"><li style="color: rgb(255\, 255\, 255)\; text-align: left\;">Recordings of past sessions\, automatically included with mid-year registrations</li><li style="text-align: left\; color: rgb(255\, 255\, 255)\;">How Not to Be a Terrible School Board Member by Richard E. Mayer</li></ul></td></tr></tbody></table><div style="text-align: left\;"><br><span style="color: rgb(0\, 0\, 0)\;">The webinars are fully reimbursable by the Idaho State Department of Education at $50 per participant\, per session\, if attended live and if the board has not already used its professional development funds for the year. This makes the Get on Board Package a cost-effective and impactful learning opportunity for your board members.&nbsp\;</span></div></body></html>
LOCATION:
UID:e.3326.1274294
SEQUENCE:3
DTSTAMP:20260424T170438Z
URL:https://idahoschoolboardsassociation.growthzoneapp.com/events/Details/2026-get-on-board-new-board-member-package-1492190?sourceTypeId=Hub
END:VEVENT
END:VCALENDAR
